BEGIN:VCALENDAR
VERSION:2.0
PRODID:-//ChamberMaster//Event Calendar 2.0//EN
METHOD:PUBLISH
X-PUBLISHED-TTL:P3D
REFRESH-INTERVAL:P3D
CALSCALE:GREGORIAN
BEGIN:VEVENT
DTSTART:20141024T000000Z
DTEND:20141024T040000Z
X-MICROSOFT-CDO-ALLDAYEVENT:FALSE
SUMMARY:A Progressive Party hosted by The Foster Family
DESCRIPTION:A progressive party featuring fun entertainment\, delicious food\, tasty drinks & good compay all benefitting the Stanislaus Family Justice Center.  Hosted by The Foster Family  Progress through three unique experiences at three fabulous homes.  Acoustic Guitar & AppetizersSteel Drums & Dinner  Cool Jazz\, Dessert & Cigars  It's not your typical fundraiser!  $225 a person. Space is limited.  Please contact Cindy ay 209-525-5134 or cschneider@stanislausfamilyjustice.org
X-ALT-DESC;FMTTYPE=text/html:<DIV style="FONT-FAMILY: Arial">A progressive party featuring fun entertainment\, delicious food\, tasty drinks &amp\; good compay all benefitting the Stanislaus Family Justice Center. </DIV><DIV style="FONT-FAMILY: Arial">&nbsp\;</DIV><DIV style="FONT-FAMILY: Arial">Hosted by The Foster Family </DIV><DIV style="FONT-FAMILY: Arial">&nbsp\;</DIV><DIV style="FONT-FAMILY: Arial">Progress through three unique experiences at three fabulous homes. </DIV><DIV style="FONT-FAMILY: Arial">&nbsp\;</DIV><DIV style="FONT-FAMILY: Arial">Acoustic Guitar &amp\; Appetizers</DIV><DIV style="FONT-FAMILY: Arial">Steel Drums &amp\; Dinner &nbsp\;</DIV><DIV style="FONT-FAMILY: Arial">Cool Jazz\, Dessert &amp\; Cigars </DIV><DIV style="FONT-FAMILY: Arial">&nbsp\;</DIV><DIV style="FONT-FAMILY: Arial">It's not your typical fundraiser! </DIV><DIV style="FONT-FAMILY: Arial">&nbsp\;</DIV><DIV style="FONT-FAMILY: Arial">$225 a person. Space is limited. </DIV><DIV style="FONT-FAMILY: Arial">&nbsp\;</DIV><DIV style="FONT-FAMILY: Arial">Please contact Cindy ay 209-525-5134 or <A href="mailto:cschneider@stanislausfamilyjustice.org">cschneider@stanislausfamilyjustice.org</A> </DIV>
LOCATION:Stanislaus Family Justice Center
UID:e.2695.572
SEQUENCE:3
DTSTAMP:20260422T165404Z
URL:https://business.modchamber.org/events/details/a-progressive-party-hosted-by-the-foster-family-10-23-2014-572
END:VEVENT

END:VCALENDAR
