BEGIN:VCALENDAR
VERSION:2.0
PRODID:-//ChamberMaster//Event Calendar 2.0//EN
METHOD:PUBLISH
X-PUBLISHED-TTL:P3D
REFRESH-INTERVAL:P3D
CALSCALE:GREGORIAN
BEGIN:VEVENT
DTSTART:20150919T013000Z
DTEND:20150919T043000Z
X-MICROSOFT-CDO-ALLDAYEVENT:FALSE
SUMMARY:A Night in the Orient
DESCRIPTION:Buffet style Chinese dinner and Chinese Auction for our 50th Anniversary fundraiser. Fun for everyone!  $45 per person. Tickets sold in advance.  Pick up tickets at 1745 Eldena Way or call (209) 529-4950.
X-ALT-DESC;FMTTYPE=text/html:Buffet style Chinese dinner and Chinese Auction for our 50th Anniversary fundraiser. Fun for everyone!  $45 per person. Tickets sold in advance.  Pick up tickets at 1745 Eldena Way or call (209) 529-4950.
LOCATION:Minnie's Restaurant 107 McHenry Avenue Modesto\, CA
UID:e.2695.1187
SEQUENCE:3
DTSTAMP:20260420T003312Z
URL:https://business.modchamber.org/events/details/a-night-in-the-orient-09-18-2015-1187
END:VEVENT

END:VCALENDAR
