BEGIN:VCALENDAR
VERSION:2.0
PRODID:-//ChamberMaster//Event Calendar 2.0//EN
METHOD:PUBLISH
X-PUBLISHED-TTL:P3D
REFRESH-INTERVAL:P3D
CALSCALE:GREGORIAN
BEGIN:VEVENT
DTSTART:20160423T010000Z
DTEND:20160422T070000Z
X-MICROSOFT-CDO-ALLDAYEVENT:FALSE
SUMMARY:A Fistful of Dollars - A Plateful of Pasta
DESCRIPTION:Join us for a Spaghetti Western with all the fixin’s. Spaghetti Dinner catered by Concetta\, live music and a screening of the Italian cult classic starring Clint Eastwood. Dress up like a gunslinger and plan to get down.\n\nDoors\, dinner and dance 6-7 p.m.\nFistful of Dollars at 7 p.m.\nAdmission:20\nContact : 	State Theatre\nPhone : 	BOX OFFICE (209) 527-4697\nEmail : 	\nWeb Site : 	thestate.org
X-ALT-DESC;FMTTYPE=text/html:Join us for a Spaghetti Western with all the fixin’s. Spaghetti Dinner catered by Concetta\, live music and a screening of the Italian cult classic starring Clint Eastwood. Dress up like a gunslinger and plan to get down.\n\nDoors\, dinner and dance 6-7 p.m.\nFistful of Dollars at 7 p.m.\nAdmission:20\nContact : 	State Theatre\nPhone : 	BOX OFFICE (209) 527-4697\nEmail : 	\nWeb Site : 	thestate.org
LOCATION:State Theatre 1307 J Street Modesto\, CA 95354
UID:e.2695.1584
SEQUENCE:3
DTSTAMP:20260419T141415Z
URL:https://business.modchamber.org/events/details/a-fistful-of-dollars-a-plateful-of-pasta-04-22-2016-1584
END:VEVENT

END:VCALENDAR
