BEGIN:VCALENDAR
VERSION:2.0
PRODID:-//ChamberMaster//Event Calendar 2.0//EN
METHOD:PUBLISH
X-PUBLISHED-TTL:P3D
REFRESH-INTERVAL:P3D
CALSCALE:GREGORIAN
BEGIN:VEVENT
DTSTART:20151128T033000Z
DTEND:20151127T080000Z
X-MICROSOFT-CDO-ALLDAYEVENT:FALSE
SUMMARY:A CHRISTMAS CAROL
DESCRIPTION:Modesto’s oldest community theater company and a Resident Company of the Gallo Center for the Arts presents a traditional\, period staging of this holiday classic. In A Christmas Carol\, based on the novella by Charles Dickens\, sour and stingy Ebenezer Scrooge’s ideological\, ethical\, and emotional transformation takes place after the supernatural visits of Jacob Marley and the Ghosts of Christmas Past\, Present\, and Future.\nContact :	Gallo Center\nPhone :	209-338-2100\nEmail :	\nWeb Site :	galloarts.org
X-ALT-DESC;FMTTYPE=text/html:	Modesto’s oldest community theater company and a Resident Company of the Gallo Center for the Arts presents a traditional\, period staging of this holiday classic. In A Christmas Carol\, based on the novella by Charles Dickens\, sour and stingy Ebenezer Scrooge’s ideological\, ethical\, and emotional transformation takes place after the supernatural visits of Jacob Marley and the Ghosts of Christmas Past\, Present\, and Future.\nContact :	Gallo Center\nPhone :	209-338-2100\nEmail :	\nWeb Site :	galloarts.org
LOCATION:Gallo Center 1000 I St Modesto\, CA 95354
UID:e.2695.1276
SEQUENCE:3
DTSTAMP:20260419T203453Z
URL:https://business.modchamber.org/events/details/a-christmas-carol-11-27-2015-1276
END:VEVENT

END:VCALENDAR
