BEGIN:VCALENDAR
VERSION:2.0
PRODID:-//ChamberMaster//Event Calendar 2.0//EN
METHOD:PUBLISH
X-PUBLISHED-TTL:P3D
REFRESH-INTERVAL:P3D
CALSCALE:GREGORIAN
BEGIN:VEVENT
DTSTART:20150822T210000Z
DTEND:20150824T020000Z
X-MICROSOFT-CDO-ALLDAYEVENT:FALSE
SUMMARY:8th ANNUAL MESOPOTAMIAN
DESCRIPTION:
X-ALT-DESC;FMTTYPE=text/html:
LOCATION:Saint Matthew Catholic Church 3005 6th St Ceres\, CA 95307
UID:e.2695.1149
SEQUENCE:3
DTSTAMP:20260420T003103Z
URL:https://business.modchamber.org/events/details/8th-annual-mesopotamian-08-22-2015-1149
END:VEVENT

END:VCALENDAR
