BEGIN:VCALENDAR
VERSION:2.0
PRODID:-//ChamberMaster//Event Calendar 2.0//EN
METHOD:PUBLISH
X-PUBLISHED-TTL:P3D
REFRESH-INTERVAL:P3D
CALSCALE:GREGORIAN
BEGIN:VEVENT
DTSTART:20160101T010000Z
DTEND:20151231T080000Z
X-MICROSOFT-CDO-ALLDAYEVENT:FALSE
SUMMARY:8th ANNUAL BARKIN’ DOG GRILL NEW YEAR’S EVE PARTY
DESCRIPTION:Featuring The Ernie Bucio Little Big Band call now for reservations!\nContact :	Barkin Dog Grill\nPhone :	572-2341\nEmail :	\nWeb Site :
X-ALT-DESC;FMTTYPE=text/html:Featuring The Ernie Bucio Little Big Band call now for reservations!\nContact :	Barkin Dog Grill\nPhone :	572-2341\nEmail :	\nWeb Site :	
LOCATION:Barkin Dog Grill 940 11th St Modesto\, CA 95354
UID:e.2695.1328
SEQUENCE:3
DTSTAMP:20260419T191232Z
URL:https://business.modchamber.org/events/details/8th-annual-barkin-dog-grill-new-year-s-eve-party-12-31-2015-1328
END:VEVENT

END:VCALENDAR
