BEGIN:VCALENDAR
VERSION:2.0
PRODID:-//ChamberMaster//Event Calendar 2.0//EN
METHOD:PUBLISH
X-PUBLISHED-TTL:P3D
REFRESH-INTERVAL:P3D
CALSCALE:GREGORIAN
BEGIN:VEVENT
DTSTART:20150920T150000Z
DTEND:20150920T070000Z
X-MICROSOFT-CDO-ALLDAYEVENT:FALSE
SUMMARY:7th Annual Memorial Car Show
DESCRIPTION:7th Annual Memorial Car Show in memory of Eric Wika.\n\n50/50 Raffles & Giveaways.Open to all makes\, Models\, and Years. Cars enter at Geer road south entrance. Parking on grass area. All proceeds go to the National Marfan Foundation.\n\nPre-registration $15.00 Day of the event $20.00\nContact :	Mike Wika\nPhone :	209-872-5544\nEmail :	\nWeb Site :
X-ALT-DESC;FMTTYPE=text/html:7th Annual Memorial Car Show in memory of Eric Wika.\n\n50/50 Raffles & Giveaways.Open to all makes\, Models\, and Years. Cars enter at Geer road south entrance. Parking on grass area. All proceeds go to the National Marfan Foundation.\n\nPre-registration $15.00 Day of the event $20.00\nContact :	Mike Wika\nPhone :	209-872-5544\nEmail :	\nWeb Site :	
LOCATION:The Fruit Yard 7948 Yosemite Blvd. Modesto\, CA 95357
UID:e.2695.1074
SEQUENCE:3
DTSTAMP:20260419T231906Z
URL:https://business.modchamber.org/events/details/7th-annual-memorial-car-show-09-20-2015-1074
END:VEVENT

END:VCALENDAR
