BEGIN:VCALENDAR
VERSION:2.0
PRODID:-//ChamberMaster//Event Calendar 2.0//EN
METHOD:PUBLISH
X-PUBLISHED-TTL:P3D
REFRESH-INTERVAL:P3D
CALSCALE:GREGORIAN
BEGIN:VEVENT
DTSTART:20151212T150000Z
DTEND:20151212T080000Z
X-MICROSOFT-CDO-ALLDAYEVENT:FALSE
SUMMARY:6th Annual Spirit of Giving Run
DESCRIPTION:FREE 1/4 Mile Kids Fun Run - Help Santa run the Grinch out of Modesto!\nFREE Children's photo with Santa\ngreat raffle prizes: get up to 10 tickets by donating canned food and non-perishable food items. All food items will be donated to Gospel Mission. One can = 1 ticket\, 10 cans = 10 tickets. Monetary donations accepted.\n\nEntry $30 Adult & $15 12yrs & under\nContact :	Andy Johnson\nPhone :	209-571-5582\nEmail :	\nWeb Site :	www.modestospiritofgiving.org
X-ALT-DESC;FMTTYPE=text/html:FREE 1/4 Mile Kids Fun Run - Help Santa run the Grinch out of Modesto!\nFREE Children's photo with Santa\ngreat raffle prizes: get up to 10 tickets by donating canned food and non-perishable food items. All food items will be donated to Gospel Mission. One can = 1 ticket\, 10 cans = 10 tickets. Monetary donations accepted.\n\nEntry $30 Adult & $15 12yrs & under\nContact :	Andy Johnson\nPhone :	209-571-5582\nEmail :	\nWeb Site :	www.modestospiritofgiving.org
LOCATION:Downtown Modesto 1010 10th Street Modesto\, CA 95354
UID:e.2695.1301
SEQUENCE:3
DTSTAMP:20260419T191126Z
URL:https://business.modchamber.org/events/details/6th-annual-spirit-of-giving-run-12-12-2015-1301
END:VEVENT

END:VCALENDAR
