BEGIN:VCALENDAR
VERSION:2.0
PRODID:-//ChamberMaster//Event Calendar 2.0//EN
METHOD:PUBLISH
X-PUBLISHED-TTL:P3D
REFRESH-INTERVAL:P3D
CALSCALE:GREGORIAN
BEGIN:VEVENT
DTSTART:20150425T180000Z
DTEND:20150425T210000Z
X-MICROSOFT-CDO-ALLDAYEVENT:FALSE
SUMMARY:6th Annual Healther & Wellness Fair
DESCRIPTION:We are very excited to offer this free educational health & wellness event to our community!
X-ALT-DESC;FMTTYPE=text/html:We are very excited to offer this free educational health & wellness event to our community!
LOCATION:Brenda Athletic Clubs 200 Norwegian Ave Modesto\, CA 95350
UID:e.2695.973
SEQUENCE:3
DTSTAMP:20260420T074019Z
URL:https://business.modchamber.org/events/details/6th-annual-healther-wellness-fair-04-25-2015-973
END:VEVENT

END:VCALENDAR
