BEGIN:VCALENDAR
VERSION:2.0
PRODID:-//ChamberMaster//Event Calendar 2.0//EN
METHOD:PUBLISH
X-PUBLISHED-TTL:P3D
REFRESH-INTERVAL:P3D
CALSCALE:GREGORIAN
BEGIN:VEVENT
DTSTART:20160506T001500Z
DTEND:20160505T070000Z
X-MICROSOFT-CDO-ALLDAYEVENT:FALSE
SUMMARY:6th Annual Fly Fishing Film Tour
DESCRIPTION:For the sixth year in a row the Fly Fishing Film Tour is returning to The State\, courtesy of Stanislaus Fly Fishers and Rivers of Recovery. In addition to a great film and fantastic raffle prizes\, attendance at the annual screening provides an excellent opportunity to support our local veterans. All proceeds from the film and the event directly benefit RIVERS OF RECOVERY (www.riversofrecovery.org)\, a non-profit organization serving combat disabled veterans through rehabilitative fly fishing adventures to the South Holston River in Tennessee\, Lower Sacramento River in California\, Arkansas River in Colorado\, Yakima River in Washington\, McKenzie River in Oregon\, and new this year\, trips in Connecticut and Wisconsin. Please come and enjoy great new fly fishing films\, raffle prizes and best of all\, show your support of those who have served our country so bravely.\nTickets may be purchased at The State Theatre box office\, or at Sierra Anglers\, 700 McHenry Ave.\, Modesto. Contact Jim Mayol at (209) 544-9555 for sponsorship opportunities.\n\nDoors at 5:15\; program at 6:30 p.m.\nTickets are $10\nVeterans with a Veterans ID will be admitted\nwithout charge.\nContact : 	State Theatre\nPhone : 	BOX OFFICE (209) 527-4697\nEmail : 	\nWeb Site : 	thestate.org
X-ALT-DESC;FMTTYPE=text/html:For the sixth year in a row the Fly Fishing Film Tour is returning to The State\, courtesy of Stanislaus Fly Fishers and Rivers of Recovery. In addition to a great film and fantastic raffle prizes\, attendance at the annual screening provides an excellent opportunity to support our local veterans. All proceeds from the film and the event directly benefit RIVERS OF RECOVERY (www.riversofrecovery.org)\, a non-profit organization serving combat disabled veterans through rehabilitative fly fishing adventures to the South Holston River in Tennessee\, Lower Sacramento River in California\, Arkansas River in Colorado\, Yakima River in Washington\, McKenzie River in Oregon\, and new this year\, trips in Connecticut and Wisconsin. Please come and enjoy great new fly fishing films\, raffle prizes and best of all\, show your support of those who have served our country so bravely.\nTickets may be purchased at The State Theatre box office\, or at Sierra Anglers\, 700 McHenry Ave.\, Modesto. Contact Jim Mayol at (209) 544-9555 for sponsorship opportunities.\n\nDoors at 5:15\; program at 6:30 p.m.\nTickets are $10\nVeterans with a Veterans ID will be admitted\nwithout charge.\nContact : 	State Theatre\nPhone : 	BOX OFFICE (209) 527-4697\nEmail : 	\nWeb Site : 	thestate.org\n\n
LOCATION:State Theatre 1307 J Street Modesto\, CA 95354
UID:e.2695.1635
SEQUENCE:3
DTSTAMP:20260419T125248Z
URL:https://business.modchamber.org/events/details/6th-annual-fly-fishing-film-tour-05-05-2016-1635
END:VEVENT

END:VCALENDAR
