BEGIN:VCALENDAR
VERSION:2.0
PRODID:-//ChamberMaster//Event Calendar 2.0//EN
METHOD:PUBLISH
X-PUBLISHED-TTL:P3D
REFRESH-INTERVAL:P3D
CALSCALE:GREGORIAN
BEGIN:VEVENT
DTSTART:20140619T000000Z
DTEND:20140620T020000Z
X-MICROSOFT-CDO-ALLDAYEVENT:FALSE
SUMMARY:6th Annual Back Pack Drive
DESCRIPTION:Join Al the Almond and Wally the Walnut on Wednesday\, June 18\, 2014 between the hours of 5:00-7:00 PM. at the Perla Tapatia Market\, 1601 Crowslanding Road\, in South Modesto. \n\n\n \n \n$2.00 Tickets\nGet a $2.00 tickets for the Modesto Nuts Game June 19\, 2014 at 7:05 pm\n\nWith each $2.00 ticket\, you will receive a backpack! \n LCR will be present with a box to fill up with anyone wishing to donate their backpack to LCR for the \nLCR 6th ANNUAL BACK PACK DRIVE!!\n\nGreat deal\, $2.00 ticket to the game and a backpack to donate to LCR.\n \nFor more information:\n \nMaggie Mejia\nPresident\nLatino Community Roundtable (LCR)\nP. O. Box 4203\nModesto\, CA 95350-4203\n(209) 303-2664\nmaggiemejialcr@gmail.com\nwww.lcrstan.org
X-ALT-DESC;FMTTYPE=text/html:\n\nJoin Al the Almond and Wally the Walnut on Wednesday\, June 18\, 2014 between the hours of 5:00-7:00 PM. at the Perla Tapatia Market\, 1601 Crowslanding Road\, in South Modesto. \n\n\n \n \n$2.00 Tickets\nGet a $2.00 tickets for the Modesto Nuts Game June 19\, 2014 at 7:05 pm\n\nWith each $2.00 ticket\, you will receive a backpack! \n LCR will be present with a box to fill up with anyone wishing to donate their backpack to LCR for the \nLCR 6th ANNUAL BACK PACK DRIVE!!\n\nGreat deal\, $2.00 ticket to the game and a backpack to donate to LCR.\n \nFor more information:\n \nMaggie Mejia\nPresident\nLatino Community Roundtable (LCR)\nP. O. Box 4203\nModesto\, CA 95350-4203\n(209) 303-2664\nmaggiemejialcr@gmail.com\nwww.lcrstan.org\n \n
LOCATION:Perla Tapatia Market 1601 Crowslanding Road Modesto\, CA 95358
UID:e.2695.492
SEQUENCE:3
DTSTAMP:20260422T224232Z
URL:https://business.modchamber.org/events/details/6th-annual-back-pack-drive-06-18-2014-492
END:VEVENT

END:VCALENDAR
