BEGIN:VCALENDAR
VERSION:2.0
PRODID:-//ChamberMaster//Event Calendar 2.0//EN
METHOD:PUBLISH
X-PUBLISHED-TTL:P3D
REFRESH-INTERVAL:P3D
CALSCALE:GREGORIAN
BEGIN:VEVENT
DTSTART:20160522T143000Z
DTEND:20160522T183000Z
X-MICROSOFT-CDO-ALLDAYEVENT:FALSE
SUMMARY:63rd ANNUAL PANCAKE BREAKFAST FUNDRAISER
DESCRIPTION:The Kiwanis of Modesto's 63rd  Annual Pancake Breakfast Fundraiser.\n$8.00 a person. 7:00am - 12:00pm McHenry Event Center\, 945 McHenry Ave.\nContact : 	\nPhone : 	209-527-3484\nEmail : 	\nWeb Site :
X-ALT-DESC;FMTTYPE=text/html:	The Kiwanis of Modesto's 63rd  Annual Pancake Breakfast Fundraiser.\n$8.00 a person. 7:00am - 12:00pm McHenry Event Center\, 945 McHenry Ave.\nContact : 	\nPhone : 	209-527-3484\nEmail : 	\nWeb Site :
LOCATION:McHenry Events Center 945 McHenry Ave Modesto\, CA 95350
UID:e.2695.1709
SEQUENCE:3
DTSTAMP:20260419T124855Z
URL:https://business.modchamber.org/events/details/63rd-annual-pancake-breakfast-fundraiser-05-22-2016-1709
END:VEVENT

END:VCALENDAR
