BEGIN:VCALENDAR
VERSION:2.0
PRODID:-//ChamberMaster//Event Calendar 2.0//EN
METHOD:PUBLISH
X-PUBLISHED-TTL:P3D
REFRESH-INTERVAL:P3D
CALSCALE:GREGORIAN
BEGIN:VEVENT
DTSTART:20160507T140000Z
DTEND:20160507T070000Z
X-MICROSOFT-CDO-ALLDAYEVENT:FALSE
SUMMARY:5th Annual Ride for Mom
DESCRIPTION:72 Miles: 6-6:45 a.m. (must leave by 7 a.m. or before)\,\n30 Miles: 6:30-8:45 a.m. (must leave by 9 a.m. or before)\, \n10 Miles: 7:30-9:45 a.m. (must leave by 10:00 a.m. or before)\n\nFood\n\nAlong each route\, riders will find supported rest stops with cycling-specific snacks.\n\nSupport\n\nRoutes will be marked. Maps will be available at the Registration table. SAG support will be provided on the 30 and 72 mile routes. Cyclists are advised to carry at least one water bottle and carry a spare tube and tools for flats.\n\nRules\n\nHelmets required. No helmets – no ride. No exceptions. All riders must wear an ANSI approved helmet\, carry medical ID and emergency phone numbers. Riders must abide by all traffic laws\, street signs and signals\, rules of the road\, ride single file and stay to the right. Participants under 18 must ride with an adult rider.\n\nSafety\n\nThis event is a ride\, not a race. Ride safely\, be courteous\, and obey all traffic laws. It is not unusual to have traffic citations issued for running stop signs and other violations. PLEASE RIDE SINGLE FILE ON ALL ROADS.\nContact :	\nPhone :	\nEmail :	info@rideformom.com\nWeb Site :	www\,rideformom.com
X-ALT-DESC;FMTTYPE=text/html:72 Miles: 6-6:45 a.m. (must leave by 7 a.m. or before)\,\n30 Miles: 6:30-8:45 a.m. (must leave by 9 a.m. or before)\, \n10 Miles: 7:30-9:45 a.m. (must leave by 10:00 a.m. or before)\n\nFood\n\nAlong each route\, riders will find supported rest stops with cycling-specific snacks.\n\nSupport\n\nRoutes will be marked. Maps will be available at the Registration table. SAG support will be provided on the 30 and 72 mile routes. Cyclists are advised to carry at least one water bottle and carry a spare tube and tools for flats.\n\nRules\n\nHelmets required. No helmets – no ride. No exceptions. All riders must wear an ANSI approved helmet\, carry medical ID and emergency phone numbers. Riders must abide by all traffic laws\, street signs and signals\, rules of the road\, ride single file and stay to the right. Participants under 18 must ride with an adult rider.\n\nSafety\n\nThis event is a ride\, not a race. Ride safely\, be courteous\, and obey all traffic laws. It is not unusual to have traffic citations issued for running stop signs and other violations. PLEASE RIDE SINGLE FILE ON ALL ROADS.\nContact :	\nPhone :	\nEmail :	info@rideformom.com\nWeb Site :	www\,rideformom.com
LOCATION:Johansen High School 641 Norseman Drive Modesto\, CA 95355
UID:e.2695.1361
SEQUENCE:3
DTSTAMP:20260419T140954Z
URL:https://business.modchamber.org/events/details/5th-annual-ride-for-mom-05-07-2016-1361
END:VEVENT

END:VCALENDAR
