BEGIN:VCALENDAR
VERSION:2.0
PRODID:-//ChamberMaster//Event Calendar 2.0//EN
METHOD:PUBLISH
X-PUBLISHED-TTL:P3D
REFRESH-INTERVAL:P3D
CALSCALE:GREGORIAN
BEGIN:VEVENT
DTSTART:20150809T170000Z
DTEND:20150809T070000Z
X-MICROSOFT-CDO-ALLDAYEVENT:FALSE
SUMMARY:5th Annual Modstock
DESCRIPTION:Presented by the Valley Music Institute. 26 local bands\, food\, drink\, arts and crafts\, demos\, bounce house\, family fun.\n\nPeace\, love and music festival with a Rock and Roll Circus atmosphere.\nContact :	Darin Morris\nPhone :	(209) 543-2066
X-ALT-DESC;FMTTYPE=text/html:	Presented by the Valley Music Institute. 26 local bands\, food\, drink\, arts and crafts\, demos\, bounce house\, family fun.\n\nPeace\, love and music festival with a Rock and Roll Circus atmosphere.\nContact :	Darin Morris\nPhone :	(209) 543-2066
LOCATION:Graceada Park 401 Needham Ave Modesto\, CA 95354
UID:e.2695.1162
SEQUENCE:3
DTSTAMP:20260420T014800Z
URL:https://business.modchamber.org/events/details/5th-annual-modstock-08-09-2015-1162
END:VEVENT

END:VCALENDAR
