BEGIN:VCALENDAR
VERSION:2.0
PRODID:-//ChamberMaster//Event Calendar 2.0//EN
METHOD:PUBLISH
X-PUBLISHED-TTL:P3D
REFRESH-INTERVAL:P3D
CALSCALE:GREGORIAN
BEGIN:VEVENT
DTSTART:20150530T180000Z
DTEND:20150530T210000Z
X-MICROSOFT-CDO-ALLDAYEVENT:FALSE
SUMMARY:5th Annual Healthy Kids Day
DESCRIPTION:We are very excited to offer this free fun & educational health event all for kids to our community!Learn about healthy options available for your children while they play!
X-ALT-DESC;FMTTYPE=text/html:We are very excited to offer this free fun & educational health event all for kids to our community!Learn about healthy options available for your children while they play!
LOCATION:Brenda Athletic Clubs 200 Norwegian Ave Modesto\, CA 95350
UID:e.2695.976
SEQUENCE:3
DTSTAMP:20260420T045640Z
URL:https://business.modchamber.org/events/details/5th-annual-healthy-kids-day-05-30-2015-976
END:VEVENT

END:VCALENDAR
