BEGIN:VCALENDAR
VERSION:2.0
PRODID:-//ChamberMaster//Event Calendar 2.0//EN
METHOD:PUBLISH
X-PUBLISHED-TTL:P3D
REFRESH-INTERVAL:P3D
CALSCALE:GREGORIAN
BEGIN:VEVENT
DTSTART:20160324T003000Z
DTEND:20160324T033000Z
X-MICROSOFT-CDO-ALLDAYEVENT:FALSE
SUMMARY:5th Annual Art of Justice Fundraiser & Celebration
DESCRIPTION:Please join us for a child-inspired art show & sale.\n-Silent Auction\n-Wine\, beverages & appetizers\n-Meet the artists\n\nProgressive event with three locations beginning at the Stanislaus Family Justice Center\, 1625 I Street.\n\n$20 advanced tickets & ($25 at the door)\nContact : 	Stanislaus Family Justice Center\nPhone : 	209-525-5130\nEmail : 	\nWeb Site :
X-ALT-DESC;FMTTYPE=text/html:Please join us for a child-inspired art show & sale.\n-Silent Auction\n-Wine\, beverages & appetizers\n-Meet the artists\n\nProgressive event with three locations beginning at the Stanislaus Family Justice Center\, 1625 I Street.\n\n$20 advanced tickets & ($25 at the door)\nContact : 	Stanislaus Family Justice Center\nPhone : 	209-525-5130\nEmail : 	\nWeb Site :
LOCATION:Stanislaus Family Justice Center 1625 I Street Modesto\, CA 95354
UID:e.2695.847
SEQUENCE:3
DTSTAMP:20260419T154400Z
URL:https://business.modchamber.org/events/details/5th-annual-art-of-justice-fundraiser-celebration-03-23-2016-847
END:VEVENT

END:VCALENDAR
