BEGIN:VCALENDAR
VERSION:2.0
PRODID:-//ChamberMaster//Event Calendar 2.0//EN
METHOD:PUBLISH
X-PUBLISHED-TTL:P3D
REFRESH-INTERVAL:P3D
CALSCALE:GREGORIAN
BEGIN:VEVENT
DTSTART;VALUE=DATE:20160319
DTEND;VALUE=DATE:20160321
TRANSP:TRANSPARENT
X-MICROSOFT-CDO-ALLDAYEVENT:TRUE
SUMMARY:55th Annual Camellia Cavalcade
DESCRIPTION:Take a look at the award winning Camellia's at the 55th Annual Camellia Show. This is the only weekend of the year that the Gallo grounds and the Gallo Camellia Gardens with their 1000 beautiful camellia plants are open to the public to enjoy their beauty & over 200 camellia plants in various sizes for sale. The Camellia show\, as always\, is free and open to the public.\n\n3/19 - 2pm - 5pm\n3/20 - 10:30am - 5pm\nContact : 	Marvin Bort\, President\nPhone : 	209-537-3345\nEmail : 	\nWeb Site :
X-ALT-DESC;FMTTYPE=text/html:Take a look at the award winning Camellia's at the 55th Annual Camellia Show. This is the only weekend of the year that the Gallo grounds and the Gallo Camellia Gardens with their 1000 beautiful camellia plants are open to the public to enjoy their beauty & over 200 camellia plants in various sizes for sale. The Camellia show\, as always\, is free and open to the public.\n\n3/19 - 2pm - 5pm\n3/20 - 10:30am - 5pm\nContact : 	Marvin Bort\, President\nPhone : 	209-537-3345\nEmail : 	\nWeb Site :
LOCATION:Gallo Administration Building 600 Yosemite Blvd Modesto\, CA 95351
UID:e.2695.1568
SEQUENCE:3
DTSTAMP:20260419T164051Z
URL:https://business.modchamber.org/events/details/55th-annual-camellia-cavalcade-03-19-2016-1568
END:VEVENT

END:VCALENDAR
