BEGIN:VCALENDAR
VERSION:2.0
PRODID:-//ChamberMaster//Event Calendar 2.0//EN
METHOD:PUBLISH
X-PUBLISHED-TTL:P3D
REFRESH-INTERVAL:P3D
CALSCALE:GREGORIAN
BEGIN:VEVENT
DTSTART;VALUE=DATE:20150321
DTEND;VALUE=DATE:20150323
TRANSP:TRANSPARENT
X-MICROSOFT-CDO-ALLDAYEVENT:TRUE
SUMMARY:54th Annuel Camellia Cavalcade
DESCRIPTION:Take a look at the award winning Camellia's at the 53rd Annual Camellia Show. This is the only weekend of the year that the Gallo grounds and the Gallo Camellia Gardens with their 1000 beautiful camellia plants are open to the public to enjoy their beauty & over 200 camellia plants in various sizes for sale. The Camellia show\, as always\, is free and open to the public.\n\n3/21 - 2pm - 5pm\n3/22 - 10:30am - 5pm\nContact :	\nPhone :	(209) 522-0147\nEmail :	\nWeb Site :
X-ALT-DESC;FMTTYPE=text/html:	Take a look at the award winning Camellia's at the 53rd Annual Camellia Show. This is the only weekend of the year that the Gallo grounds and the Gallo Camellia Gardens with their 1000 beautiful camellia plants are open to the public to enjoy their beauty & over 200 camellia plants in various sizes for sale. The Camellia show\, as always\, is free and open to the public.\n\n3/21 - 2pm - 5pm\n3/22 - 10:30am - 5pm\nContact :	\nPhone :	(209) 522-0147\nEmail :	\nWeb Site :
LOCATION:Gallo Winery Ground's Admin. Building 600 Yosemite Blvd Modesto\, CA 95351
UID:e.2695.810
SEQUENCE:3
DTSTAMP:20260420T073858Z
URL:https://business.modchamber.org/events/details/54th-annuel-camellia-cavalcade-03-21-2015-810
END:VEVENT

END:VCALENDAR
