BEGIN:VCALENDAR
VERSION:2.0
PRODID:-//ChamberMaster//Event Calendar 2.0//EN
METHOD:PUBLISH
X-PUBLISHED-TTL:P3D
REFRESH-INTERVAL:P3D
CALSCALE:GREGORIAN
BEGIN:VEVENT
DTSTART;VALUE=DATE:20150919
DTEND;VALUE=DATE:20150921
TRANSP:TRANSPARENT
X-MICROSOFT-CDO-ALLDAYEVENT:TRUE
SUMMARY:50th Annual Greek Food Festival
DESCRIPTION:Authentic Greek Cuisine\; Outdoor Coffeehouse with live Greek music and entertainment by award-winning Greek dancers\; Marketplace\; Bakery shop with homemade Greek pastries\; Tours available of Byzantine-style Orthodox Church adorned with magnificent frescoes\; Take-Outs available.\n\nSeptember 19 (noon to 9 pm) and September 20 (11 am to 7 pm).\nContact :	Annunciation Greek Orthodox Church\nPhone :	209-522-7694\nEmail :	\nWeb Site :	www.goannunciation.org
X-ALT-DESC;FMTTYPE=text/html:Authentic Greek Cuisine\; Outdoor Coffeehouse with live Greek music and entertainment by award-winning Greek dancers\; Marketplace\; Bakery shop with homemade Greek pastries\; Tours available of Byzantine-style Orthodox Church adorned with magnificent frescoes\; Take-Outs available.\n\nSeptember 19 (noon to 9 pm) and September 20 (11 am to 7 pm).\nContact :	Annunciation Greek Orthodox Church\nPhone :	209-522-7694\nEmail :	\nWeb Site :	www.goannunciation.org\n
LOCATION:Annunciation Greek Orthodox Church 313 Tokay Ave Modesto\, CA 95356
UID:e.2695.1073
SEQUENCE:3
DTSTAMP:20260420T003419Z
URL:https://business.modchamber.org/events/details/50th-annual-greek-food-festival-09-19-2015-1073
END:VEVENT

END:VCALENDAR
