BEGIN:VCALENDAR
VERSION:2.0
PRODID:-//ChamberMaster//Event Calendar 2.0//EN
METHOD:PUBLISH
X-PUBLISHED-TTL:P3D
REFRESH-INTERVAL:P3D
CALSCALE:GREGORIAN
BEGIN:VEVENT
DTSTART;VALUE=DATE:20150805
DTEND;VALUE=DATE:20150806
TRANSP:TRANSPARENT
X-MICROSOFT-CDO-ALLDAYEVENT:TRUE
SUMMARY:4th Annual Farm to table Dinner
DESCRIPTION:A Culinary Journey From Farm to Table\nEnjoy an evening in the gardens of a local farm including an artistically prepared multi-course dinner composed of local\, farm fresh ingredients. This is the perfect setting to learn about some unique agricultural products grown and produced right here in Stanislaus County by those who have dedicated their lives to food and farming.\nContact :	Ag Science Center\nPhone :	\nEmail :	\nWeb Site :	www.agsciencecenter.org
X-ALT-DESC;FMTTYPE=text/html:	A Culinary Journey From Farm to Table\nEnjoy an evening in the gardens of a local farm including an artistically prepared multi-course dinner composed of local\, farm fresh ingredients. This is the perfect setting to learn about some unique agricultural products grown and produced right here in Stanislaus County by those who have dedicated their lives to food and farming.\nContact :	Ag Science Center\nPhone :	\nEmail :	\nWeb Site :	www.agsciencecenter.org\n
LOCATION:
UID:e.2695.1046
SEQUENCE:3
DTSTAMP:20260420T015350Z
URL:https://business.modchamber.org/events/details/4th-annual-farm-to-table-dinner-08-05-2015-1046
END:VEVENT

END:VCALENDAR
