BEGIN:VCALENDAR
VERSION:2.0
PRODID:-//ChamberMaster//Event Calendar 2.0//EN
METHOD:PUBLISH
X-PUBLISHED-TTL:P3D
REFRESH-INTERVAL:P3D
CALSCALE:GREGORIAN
BEGIN:VEVENT
DTSTART:20150327T003000Z
DTEND:20150327T033000Z
X-MICROSOFT-CDO-ALLDAYEVENT:FALSE
SUMMARY:4th Annual Art of Justice Celebration & Fundraiser
DESCRIPTION:Join the Stanislaus Family Justice Center for a child inspired art show & sale.\nSilent Auction\nWine\, beverages & appetizers\nmeet the artists\n\n$20.00 for advanced tickets & $25.00 at the door.\nContact :	Stanislaus Family Justice Center\nPhone :	209-525-5134\nEmail :	\nWeb Site :
X-ALT-DESC;FMTTYPE=text/html:Join the Stanislaus Family Justice Center for a child inspired art show & sale.\nSilent Auction\nWine\, beverages & appetizers\nmeet the artists\n\n$20.00 for advanced tickets & $25.00 at the door.\nContact :	Stanislaus Family Justice Center\nPhone :	209-525-5134\nEmail :	\nWeb Site :
LOCATION:Stanislaus Family Justice Center 1625 I Street Modesto\, CA 95354
UID:e.2695.822
SEQUENCE:3
DTSTAMP:20260420T074135Z
URL:https://business.modchamber.org/events/details/4th-annual-art-of-justice-celebration-fundraiser-03-26-2015-822
END:VEVENT

END:VCALENDAR
