BEGIN:VCALENDAR
VERSION:2.0
PRODID:-//ChamberMaster//Event Calendar 2.0//EN
METHOD:PUBLISH
X-PUBLISHED-TTL:P3D
REFRESH-INTERVAL:P3D
CALSCALE:GREGORIAN
BEGIN:VEVENT
DTSTART:20160407T003000Z
DTEND:20160406T070000Z
X-MICROSOFT-CDO-ALLDAYEVENT:FALSE
SUMMARY:49th Annual Outstanding Athlete's Awards
DESCRIPTION:Join us as we celebrate this year's AOAA winners for:\n-Team of the year\n-Jay Pattee Award Memorial Award\n-Darell Phillips Award\n-Hall of Fame Award\n\nEvent Schedule:\n\nPress Reception 5:30pm\nSocial Hour 6:30pm\nDinner 7:00pm\nAwards immediately following\nAdults $40.00 Students $25.00\nContact : 	SOS Club\nPhone : 	209-578-5801\nEmail : 	\nWeb Site :
X-ALT-DESC;FMTTYPE=text/html:	Join us as we celebrate this year's AOAA winners for:\n-Team of the year\n-Jay Pattee Award Memorial Award\n-Darell Phillips Award\n-Hall of Fame Award\n\nEvent Schedule:\n\nPress Reception 5:30pm\nSocial Hour 6:30pm\nDinner 7:00pm\nAwards immediately following\nAdults $40.00 Students $25.00\nContact : 	SOS Club\nPhone : 	209-578-5801\nEmail : 	\nWeb Site :
LOCATION:SOS Club 819 Sunset Avenue Modesto\, CA 95351
UID:e.2695.1613
SEQUENCE:3
DTSTAMP:20260419T141130Z
URL:https://business.modchamber.org/events/details/49th-annual-outstanding-athlete-s-awards-04-06-2016-1613
END:VEVENT

END:VCALENDAR
