BEGIN:VCALENDAR
VERSION:2.0
PRODID:-//ChamberMaster//Event Calendar 2.0//EN
METHOD:PUBLISH
X-PUBLISHED-TTL:P3D
REFRESH-INTERVAL:P3D
CALSCALE:GREGORIAN
BEGIN:VEVENT
DTSTART:20151018T143000Z
DTEND:20151018T193000Z
X-MICROSOFT-CDO-ALLDAYEVENT:FALSE
SUMMARY:40th Annual Pancake Breakfast and Craft Fair
DESCRIPTION:40th Annual Pancake Breakfast and Craft Fair.  Masonic Center\, 800 Rose Ave Modesto.  Tickets $6.00.Available at the door or call 209 521 0609.
X-ALT-DESC;FMTTYPE=text/html:40th Annual Pancake Breakfast and Craft Fair.  Masonic Center\, 800 Rose Ave Modesto.  Tickets $6.00.Available at the door or call 209 521 0609.
LOCATION:
UID:e.2695.549
SEQUENCE:3
DTSTAMP:20260419T214641Z
URL:https://business.modchamber.org/events/details/40th-annual-pancake-breakfast-and-craft-fair-10-18-2015-549
END:VEVENT

END:VCALENDAR
