BEGIN:VCALENDAR
VERSION:2.0
PRODID:-//ChamberMaster//Event Calendar 2.0//EN
METHOD:PUBLISH
X-PUBLISHED-TTL:P3D
REFRESH-INTERVAL:P3D
CALSCALE:GREGORIAN
BEGIN:VEVENT
DTSTART:20160416T160000Z
DTEND:20160416T070000Z
X-MICROSOFT-CDO-ALLDAYEVENT:FALSE
SUMMARY:3rd Annual Walk a Mile in Her Shoes
DESCRIPTION:There is an old saying: "You can't really understand another person's experience until you've walked a mile in their shoes." \n\nWalk a Mile in Her Shoes® events are a playful opportunity for men to raise awareness in their community about the serious causes\, effects and remediation to men's violence against women. We are asking men to literally walk one mile in women's high-heeled shoes. It won't be easy but it's a great way to rally support in our community and raise awareness about sexual assault and domestic violence. \n\nJoin us in Modesto on Saturday\, April 16\, 2015\nfor the 3rd Annual Haven Walk a Mile for Stanislaus County! the walk itself will start at the Stanislaus County Superior Court at 9:00 am\; packet pickup and preparation will begin at 7:30. \n\nVisit http://havenwalkamile.org/home.html to register today! \n\nThere is something for everyone. By visiting the webpage men and boys can register to walk and anyone can register to volunteer and/or fund raise.\nContact :	\nPhone :	\nEmail :	\nWeb Site :	http://havenwalkamile.org/home.html
X-ALT-DESC;FMTTYPE=text/html:There is an old saying: "You can't really understand another person's experience until you've walked a mile in their shoes." \n\nWalk a Mile in Her Shoes® events are a playful opportunity for men to raise awareness in their community about the serious causes\, effects and remediation to men's violence against women. We are asking men to literally walk one mile in women's high-heeled shoes. It won't be easy but it's a great way to rally support in our community and raise awareness about sexual assault and domestic violence. \n\nJoin us in Modesto on Saturday\, April 16\, 2015\nfor the 3rd Annual Haven Walk a Mile for Stanislaus County! the walk itself will start at the Stanislaus County Superior Court at 9:00 am\; packet pickup and preparation will begin at 7:30. \n\nVisit http://havenwalkamile.org/home.html to register today! \n\nThere is something for everyone. By visiting the webpage men and boys can register to walk and anyone can register to volunteer and/or fund raise.\nContact :	\nPhone :	\nEmail :	\nWeb Site :	http://havenwalkamile.org/home.html
LOCATION:Stanislaus County Court House 800 11th Street Modesto\, CA 95354
UID:e.2695.1483
SEQUENCE:3
DTSTAMP:20260419T141324Z
URL:https://business.modchamber.org/events/details/3rd-annual-walk-a-mile-in-her-shoes-04-16-2016-1483
END:VEVENT

END:VCALENDAR
