BEGIN:VCALENDAR
VERSION:2.0
PRODID:-//ChamberMaster//Event Calendar 2.0//EN
METHOD:PUBLISH
X-PUBLISHED-TTL:P3D
REFRESH-INTERVAL:P3D
CALSCALE:GREGORIAN
BEGIN:VEVENT
DTSTART:20150508T003000Z
DTEND:20150508T033000Z
X-MICROSOFT-CDO-ALLDAYEVENT:FALSE
SUMMARY:3rd Annual Taste of the Valley
DESCRIPTION:Enjoy fine wine tasting from various wineries and fantastic hor d' oevres for ARC Catering.\n\nThere will be a silent auction\, raffle drawings & door prizes!\n\n$40.00 pre-sale only\nOver 21 only at the Howard Training Center\nContact :	Geri Lewis\nPhone :	209-593-5618\nEmail :	glewis@howardtrainingcenter.com
X-ALT-DESC;FMTTYPE=text/html:Enjoy fine wine tasting from various wineries and fantastic hor d' oevres for ARC Catering.\n\nThere will be a silent auction\, raffle drawings & door prizes!\n\n$40.00 pre-sale only\nOver 21 only at the Howard Training Center\nContact :	Geri Lewis\nPhone :	209-593-5618\nEmail :	glewis@howardtrainingcenter.com
LOCATION:Howard Training Center 1424 Stonum Rd Modesto\, CA 95351
UID:e.2695.920
SEQUENCE:3
DTSTAMP:20260420T045640Z
URL:https://business.modchamber.org/events/details/3rd-annual-taste-of-the-valley-05-07-2015-920
END:VEVENT

END:VCALENDAR
