BEGIN:VCALENDAR
VERSION:2.0
PRODID:-//ChamberMaster//Event Calendar 2.0//EN
METHOD:PUBLISH
X-PUBLISHED-TTL:P3D
REFRESH-INTERVAL:P3D
CALSCALE:GREGORIAN
BEGIN:VEVENT
DTSTART:20151129T020000Z
DTEND:20151129T060000Z
X-MICROSOFT-CDO-ALLDAYEVENT:FALSE
SUMMARY:3rd Annual ModShop
DESCRIPTION:An annual shopping event showcasing independent designers\, artisans\, and alternative crafters. Each year\, on the Saturday following Thanksgiving\,\nThis event allows creative people to sell their wares and promote their small businesses in a hip\, inclusive\, and entertaining atmosphere. .\nContact :	\nPhone :	\nEmail :	\nWeb Site :	www.modshop209.com
X-ALT-DESC;FMTTYPE=text/html:An annual shopping event showcasing independent designers\, artisans\, and alternative crafters. Each year\, on the Saturday following Thanksgiving\,\nThis event allows creative people to sell their wares and promote their small businesses in a hip\, inclusive\, and entertaining atmosphere. .\nContact :	\nPhone :	\nEmail :	\nWeb Site :	www.modshop209.com
LOCATION:Downtown Modesto Varios Locations on J St Modesto\, CA 95354
UID:e.2695.1281
SEQUENCE:3
DTSTAMP:20260419T170004Z
URL:https://business.modchamber.org/events/details/3rd-annual-modshop-11-28-2015-1281
END:VEVENT

END:VCALENDAR
