BEGIN:VCALENDAR
VERSION:2.0
PRODID:-//ChamberMaster//Event Calendar 2.0//EN
METHOD:PUBLISH
X-PUBLISHED-TTL:P3D
REFRESH-INTERVAL:P3D
CALSCALE:GREGORIAN
BEGIN:VEVENT
DTSTART:20141111T180000Z
DTEND:20141111T080000Z
X-MICROSOFT-CDO-ALLDAYEVENT:FALSE
SUMMARY:3rd Annual Driving for Change
DESCRIPTION:We are donating a 2002 Chevy Avalanche this year! \nIt is a great opportunity to take advantage of a \nvehicle that has been “totaled” or “written off” \nby the insurance company.  Oftentimes these \nvehicles just need somemechanical repair and \nbodywork to get them road–ready and safe to drive.\nRather than going to the scrapyard\, this vehicle \ncan benefit a lot of people. It is exciting to be \nable to team up anddonate our resources to make \nthat happen.
X-ALT-DESC;FMTTYPE=text/html:We are donating a 2002 Chevy Avalanche this year! \nIt is a great opportunity to take advantage of a \nvehicle that has been “totaled” or “written off” \nby the insurance company.  Oftentimes these \nvehicles just need somemechanical repair and \nbodywork to get them road–ready and safe to drive.\nRather than going to the scrapyard\, this vehicle \ncan benefit a lot of people. It is exciting to be \nable to team up anddonate our resources to make \nthat happen.\n
LOCATION:Alfred Matthews 3807 McHenry Avenue Modesto\, CA 95356
UID:e.2695.597
SEQUENCE:3
DTSTAMP:20260422T154051Z
URL:https://business.modchamber.org/events/details/3rd-annual-driving-for-change-11-11-2014-597
END:VEVENT

END:VCALENDAR
