BEGIN:VCALENDAR
VERSION:2.0
PRODID:-//ChamberMaster//Event Calendar 2.0//EN
METHOD:PUBLISH
X-PUBLISHED-TTL:P3D
REFRESH-INTERVAL:P3D
CALSCALE:GREGORIAN
BEGIN:VEVENT
DTSTART:20151024T180000Z
DTEND:20151025T010000Z
X-MICROSOFT-CDO-ALLDAYEVENT:FALSE
SUMMARY:3rd Annual Day of the Dead Celebration
DESCRIPTION:Procession from St. Stanislaus Church 6:00pm\n(this is FREE for the community)\n\nDinner & Dance\n\nContest for best alter\, decorated table and costume.\n\n$30.00 a person\n$240.00 for a table of 8\nContact :	Latino Community Roundtable\nPhone :	209-303-2664\nEmail :	\nWeb Site :
X-ALT-DESC;FMTTYPE=text/html:Procession from St. Stanislaus Church 6:00pm\n(this is FREE for the community)\n\nDinner & Dance\n\nContest for best alter\, decorated table and costume.\n\n$30.00 a person\n$240.00 for a table of 8\nContact :	Latino Community Roundtable\nPhone :	209-303-2664\nEmail :	\nWeb Site :	
LOCATION:Red Event Center 821 8th St Modesto\, CA 95354
UID:e.2695.1243
SEQUENCE:3
DTSTAMP:20260419T214805Z
URL:https://business.modchamber.org/events/details/3rd-annual-day-of-the-dead-celebration-10-24-2015-1243
END:VEVENT

END:VCALENDAR
