BEGIN:VCALENDAR
VERSION:2.0
PRODID:-//ChamberMaster//Event Calendar 2.0//EN
METHOD:PUBLISH
X-PUBLISHED-TTL:P3D
REFRESH-INTERVAL:P3D
CALSCALE:GREGORIAN
BEGIN:VEVENT
DTSTART:20150629T170000Z
DTEND:20150629T070000Z
X-MICROSOFT-CDO-ALLDAYEVENT:FALSE
SUMMARY:3rd Annual Against all Odds Golf Tournament
DESCRIPTION:The Camp Taylor & Colin Kaepernick "Against all Odds" Golf Tournament.\n\nBenefiting a medically supervised free camp for children with heart disease.\n\nGolf\, Cart\, Lunch\, Dinner\, Auction & Prizes are all included.\n\nRegister at www.kidsheartcamp.org/golf\nContact :	Camp Taylor\nPhone :	209-545-4715\nEmail :	\nWeb Site :	www.kidsheartcamp.org
X-ALT-DESC;FMTTYPE=text/html:The Camp Taylor & Colin Kaepernick "Against all Odds" Golf Tournament.\n\nBenefiting a medically supervised free camp for children with heart disease.\n\nGolf\, Cart\, Lunch\, Dinner\, Auction & Prizes are all included.\n\nRegister at www.kidsheartcamp.org/golf\nContact :	Camp Taylor\nPhone :	209-545-4715\nEmail :	\nWeb Site :	www.kidsheartcamp.org
LOCATION:Del Rio Country Club 801 Stewart Rd Modesto\, CA 95356
UID:e.2695.1018
SEQUENCE:3
DTSTAMP:20260420T032140Z
URL:https://business.modchamber.org/events/details/3rd-annual-against-all-odds-golf-tournament-06-29-2015-1018
END:VEVENT

END:VCALENDAR
