BEGIN:VCALENDAR
VERSION:2.0
PRODID:-//ChamberMaster//Event Calendar 2.0//EN
METHOD:PUBLISH
X-PUBLISHED-TTL:P3D
REFRESH-INTERVAL:P3D
CALSCALE:GREGORIAN
BEGIN:VEVENT
DTSTART:20160124T030000Z
DTEND:20160123T080000Z
X-MICROSOFT-CDO-ALLDAYEVENT:FALSE
SUMMARY:30th Annual Martin Luther King Jr. Commemoration
DESCRIPTION:The 2016 Martin Luther King\, Jr. Commemoration is scheduled for Saturday\, January 23 at 7:00 p.m. in the MJC Auditorium\, and the keynote speaker will be Taylor Branch speaking on "Freedom and Gridlock: Lessons From Martin Luther King.” A special student discussion with Mr. Branch is scheduled for 4:00 – 5:00 p.m. at the King Kennedy Center\, which will be followed by a public reception from 5:00 to 6:15 p.m. at the Center. \nContact :	MJC\, Information Center\nPhone :	209-575-6550\nEmail :	\nWeb Site :
X-ALT-DESC;FMTTYPE=text/html:The 2016 Martin Luther King\, Jr. Commemoration is scheduled for Saturday\, January 23 at 7:00 p.m. in the MJC Auditorium\, and the keynote speaker will be Taylor Branch speaking on "Freedom and Gridlock: Lessons From Martin Luther King.” A special student discussion with Mr. Branch is scheduled for 4:00 – 5:00 p.m. at the King Kennedy Center\, which will be followed by a public reception from 5:00 to 6:15 p.m. at the Center. \nContact :	MJC\, Information Center\nPhone :	209-575-6550\nEmail :	\nWeb Site :	
LOCATION:MJC\, East Campus 435 College Ave Modesto\, CA 95350
UID:e.2695.647
SEQUENCE:3
DTSTAMP:20260419T174955Z
URL:https://business.modchamber.org/events/details/30th-annual-martin-luther-king-jr-commemoration-01-23-2016-647
END:VEVENT

END:VCALENDAR
