BEGIN:VCALENDAR
VERSION:2.0
PRODID:-//ChamberMaster//Event Calendar 2.0//EN
METHOD:PUBLISH
X-PUBLISHED-TTL:P3D
REFRESH-INTERVAL:P3D
CALSCALE:GREGORIAN
BEGIN:VEVENT
DTSTART:20151207T010000Z
DTEND:20151206T080000Z
X-MICROSOFT-CDO-ALLDAYEVENT:FALSE
SUMMARY:30th Annual Light up a Life Holiday Tree
DESCRIPTION:The 30th annual Light Up a Life Holiday Tree lighting at Memorial Medical Center will take place on Sunday\, December 6 at 5:00 p.m. The big evergreen tree\, at the corner of Coffee Road and Briggsmore Avenue in Modesto\, is lit to honor\, celebrate and remember loved ones.\n\nEvent is free to attend and open to the community.\nContact :	Community Hospice Foundation\nPhone :	(209) 578-6370\nEmail :	\nWeb Site :
X-ALT-DESC;FMTTYPE=text/html:The 30th annual Light Up a Life Holiday Tree lighting at Memorial Medical Center will take place on Sunday\, December 6 at 5:00 p.m. The big evergreen tree\, at the corner of Coffee Road and Briggsmore Avenue in Modesto\, is lit to honor\, celebrate and remember loved ones.\n\nEvent is free to attend and open to the community.\nContact :	Community Hospice Foundation\nPhone :	(209) 578-6370\nEmail :	\nWeb Site :	
LOCATION:Memorial Medical Center 1700 Coffee Rd Modesto\, CA 95355
UID:e.2695.1297
SEQUENCE:3
DTSTAMP:20260419T191008Z
URL:https://business.modchamber.org/events/details/30th-annual-light-up-a-life-holiday-tree-12-06-2015-1297
END:VEVENT

END:VCALENDAR
