BEGIN:VCALENDAR
VERSION:2.0
PRODID:-//ChamberMaster//Event Calendar 2.0//EN
METHOD:PUBLISH
X-PUBLISHED-TTL:P3D
REFRESH-INTERVAL:P3D
CALSCALE:GREGORIAN
BEGIN:VEVENT
DTSTART:20151017T160000Z
DTEND:20151017T220000Z
X-MICROSOFT-CDO-ALLDAYEVENT:FALSE
SUMMARY:2nd Annual Wood Colony Fair & Tour
DESCRIPTION:Farm Animal Petting Zoo\nCobbler Sampling\nOrchard & Dairy Tours\nWood Colony Market Place\nArtisan Crafts\nKids Corral\nFood & Exhibits\n\nLive Entertainment by: Ronnie & PJ\, Funstrummers\, Gaslight Revival Band\, Tomorrow's Son\, Josh Rosenblum Band\, Nathan Ignacio & Mattea Overstreet. \n\nFree Admission.\nContact :	\nPhone :	\nEmail :	\nWeb Site :	www.savewoodcolony.com
X-ALT-DESC;FMTTYPE=text/html:Farm Animal Petting Zoo\nCobbler Sampling\nOrchard & Dairy Tours\nWood Colony Market Place\nArtisan Crafts\nKids Corral\nFood & Exhibits\n\nLive Entertainment by: Ronnie & PJ\, Funstrummers\, Gaslight Revival Band\, Tomorrow's Son\, Josh Rosenblum Band\, Nathan Ignacio & Mattea Overstreet. \n\nFree Admission.\nContact :	\nPhone :	\nEmail :	\nWeb Site :	www.savewoodcolony.com
LOCATION:Hart-Ransom School 3930 Shoemake Ave. Modesto\, CA 95358
UID:e.2695.1230
SEQUENCE:3
DTSTAMP:20260419T214833Z
URL:https://business.modchamber.org/events/details/2nd-annual-wood-colony-fair-tour-10-17-2015-1230
END:VEVENT

END:VCALENDAR
