BEGIN:VCALENDAR
VERSION:2.0
PRODID:-//ChamberMaster//Event Calendar 2.0//EN
METHOD:PUBLISH
X-PUBLISHED-TTL:P3D
REFRESH-INTERVAL:P3D
CALSCALE:GREGORIAN
BEGIN:VEVENT
DTSTART:20160516T010000Z
DTEND:20160516T040000Z
X-MICROSOFT-CDO-ALLDAYEVENT:FALSE
SUMMARY:2nd Annual One Table Community Dinner-United Way of Stanislaus County
DESCRIPTION:One Table is an alfresco community dining experience presented by Datapath and United Way of Stanislaus County. Hundreds from our community gather at one long table on 15th street between J street and K street in downtown Modesto to enjoy fine wines\, live music and dine from a seasonal menu prepared by Modesto’s premier restaurants.\n\nProceeds benefit the Graduation Coach program – an on campus\, academic mentoring program led by the United Way of Stanislaus County\, focused on raising high school graduation rates and bringing long-term change to our community.\n\nFamily-Style Dining\n\nPull up a chair next to your neighbors where you will dine from a specially prepared menu from the area’s finest chefs.\n\nNo Raffle. No Auction. No Pressure\n\nNo high-pressure pitch\, raffle or auction. Your ticket price is your contribution to the success of the Graduation Coach program.\n\nDrinks Included\n\nNo need to bring extra cash for the bar – wine and beer are included in your ticket price.\n\nSeat Yourself!\n\nWe won’t tell you where to sit or bore you with speeches. Just come\, pull up a chair and dine!\n\nLive Music\n\nEnjoy live music while you eat and visit with friends\; we hear it’s good for digestion.\nContact : 	Kristi Kelley\nPhone : 	(209) 523.4562 ext. 124\nEmail : 	\nWeb Site : 	www.onetablemodesto.com
X-ALT-DESC;FMTTYPE=text/html:One Table is an alfresco community dining experience presented by Datapath and United Way of Stanislaus County. Hundreds from our community gather at one long table on 15th street between J street and K street in downtown Modesto to enjoy fine wines\, live music and dine from a seasonal menu prepared by Modesto’s premier restaurants.\n\nProceeds benefit the Graduation Coach program – an on campus\, academic mentoring program led by the United Way of Stanislaus County\, focused on raising high school graduation rates and bringing long-term change to our community.\n\nFamily-Style Dining\n\nPull up a chair next to your neighbors where you will dine from a specially prepared menu from the area’s finest chefs.\n\nNo Raffle. No Auction. No Pressure\n\nNo high-pressure pitch\, raffle or auction. Your ticket price is your contribution to the success of the Graduation Coach program.\n\nDrinks Included\n\nNo need to bring extra cash for the bar – wine and beer are included in your ticket price.\n\nSeat Yourself!\n\nWe won’t tell you where to sit or bore you with speeches. Just come\, pull up a chair and dine!\n\nLive Music\n\nEnjoy live music while you eat and visit with friends\; we hear it’s good for digestion.\nContact : 	Kristi Kelley\nPhone : 	(209) 523.4562 ext. 124\nEmail : 	\nWeb Site : 	www.onetablemodesto.com\n\n
LOCATION:Downtown Modesto Between J & K Streets Modesto\, CA 95354
UID:e.2695.1642
SEQUENCE:3
DTSTAMP:20260419T125326Z
URL:https://business.modchamber.org/events/details/2nd-annual-one-table-community-dinner-united-way-of-stanislaus-county-05-15-2016-1642
END:VEVENT

END:VCALENDAR
