BEGIN:VCALENDAR
VERSION:2.0
PRODID:-//ChamberMaster//Event Calendar 2.0//EN
METHOD:PUBLISH
X-PUBLISHED-TTL:P3D
REFRESH-INTERVAL:P3D
CALSCALE:GREGORIAN
BEGIN:VEVENT
DTSTART:20160219T150000Z
DTEND:20160220T070000Z
X-MICROSOFT-CDO-ALLDAYEVENT:FALSE
SUMMARY:2nd Annual Mardi Gras and Casino Night - Latino Community Roundtable
DESCRIPTION:Appetizers. No-host bar\, Dancing\nMusic by DJ Marco \n\nPrize for best dressed couple\nMardi Gras attire suggested.\n\n$5.00 Member\n$10.00 Non-member\nContact :	Maggie Mejia\nPhone :	209-303-2664\nEmail :	\nWeb Site :
X-ALT-DESC;FMTTYPE=text/html:Appetizers. No-host bar\, Dancing\nMusic by DJ Marco \n\nPrize for best dressed couple\nMardi Gras attire suggested.\n\n$5.00 Member\n$10.00 Non-member\nContact :	Maggie Mejia\nPhone :	209-303-2664\nEmail :	\nWeb Site :	
LOCATION:Red Event Center 928 8th Street Modesto\, CA 95354
UID:e.2695.1404
SEQUENCE:3
DTSTAMP:20260419T165008Z
URL:https://business.modchamber.org/events/details/2nd-annual-mardi-gras-and-casino-night-latino-community-roundtable-02-19-2016-1404
END:VEVENT

END:VCALENDAR
