BEGIN:VCALENDAR
VERSION:2.0
PRODID:-//ChamberMaster//Event Calendar 2.0//EN
METHOD:PUBLISH
X-PUBLISHED-TTL:P3D
REFRESH-INTERVAL:P3D
CALSCALE:GREGORIAN
BEGIN:VEVENT
DTSTART:20150502T160000Z
DTEND:20150502T070000Z
X-MICROSOFT-CDO-ALLDAYEVENT:FALSE
SUMMARY:2nd Annual Haven Walk a Mile
DESCRIPTION:There is an old saying: "You can't really understand another person's experience until you've walked a mile in their shoes." Walk a Mile in Her Shoes® events ask men to literally walk one mile in women's high-heeled shoes. It's not easy but it's a playful opportunity to rally support in our community and raise awareness about the causes\, effects and remedies for sexual assault and domestic violence.\nContact :	Women's Haven Center\nPhone :	(209) 524-4331\nEmail :	\nWeb Site :	www.havenwalkamile.org
X-ALT-DESC;FMTTYPE=text/html:There is an old saying: "You can't really understand another person's experience until you've walked a mile in their shoes." Walk a Mile in Her Shoes® events ask men to literally walk one mile in women's high-heeled shoes. It's not easy but it's a playful opportunity to rally support in our community and raise awareness about the causes\, effects and remedies for sexual assault and domestic violence.\nContact :	Women's Haven Center\nPhone :	(209) 524-4331\nEmail :	\nWeb Site :	www.havenwalkamile.org
LOCATION:Graceada Park 401 Needham Ave Modesto\, CA 95354
UID:e.2695.910
SEQUENCE:3
DTSTAMP:20260420T062215Z
URL:https://business.modchamber.org/events/details/2nd-annual-haven-walk-a-mile-05-02-2015-910
END:VEVENT

END:VCALENDAR
