BEGIN:VCALENDAR
VERSION:2.0
PRODID:-//ChamberMaster//Event Calendar 2.0//EN
METHOD:PUBLISH
X-PUBLISHED-TTL:P3D
REFRESH-INTERVAL:P3D
CALSCALE:GREGORIAN
BEGIN:VEVENT
DTSTART:20160423T160000Z
DTEND:20160423T220000Z
X-MICROSOFT-CDO-ALLDAYEVENT:FALSE
SUMMARY:2nd Annual Autorama Car Show-Modesto High School
DESCRIPTION:Trophies\, Food Booths & DJ\n\nRegistration $20.00\n\nRegistration after 4/18 or day of the event $30.00\nContact : 	Veronica Miranda\nPhone : 	209-576-4429\nEmail : 	\nWeb Site :
X-ALT-DESC;FMTTYPE=text/html:Trophies\, Food Booths & DJ\n\nRegistration $20.00\n\nRegistration after 4/18 or day of the event $30.00\nContact : 	Veronica Miranda\nPhone : 	209-576-4429\nEmail : 	\nWeb Site :
LOCATION:Modesto High School 18 H Street Modesto\, CA 95351
UID:e.2695.1616
SEQUENCE:3
DTSTAMP:20260419T141253Z
URL:https://business.modchamber.org/events/details/2nd-annual-autorama-car-show-modesto-high-school-04-23-2016-1616
END:VEVENT

END:VCALENDAR
