BEGIN:VCALENDAR
VERSION:2.0
PRODID:-//ChamberMaster//Event Calendar 2.0//EN
METHOD:PUBLISH
X-PUBLISHED-TTL:P3D
REFRESH-INTERVAL:P3D
CALSCALE:GREGORIAN
BEGIN:VEVENT
DTSTART:20160430T140000Z
DTEND:20160430T070000Z
X-MICROSOFT-CDO-ALLDAYEVENT:FALSE
SUMMARY:29th Annual Run for Health
DESCRIPTION:Choose between a 1 mile\, 5k or 10k fun run to challenge the whole family. There will be prizes for the winners\, a silent auction and new this year\, a health fair sponsored by the resident doctors at Valley Consortium for Medical Education! Plus\, everyone who registers early gets a free T shirt. See you on race day!!\n\nEvent details and schedule\nCheck in will begin at 7:00 am race day.\n\n1 Mile race will begin at 8:30 am\n\n5K and 10K races will begin at 9:00 am.\nContact : 	\nPhone : 	209-576-3526\nEmail : 	\nWeb Site :
X-ALT-DESC;FMTTYPE=text/html:Choose between a 1 mile\, 5k or 10k fun run to challenge the whole family. There will be prizes for the winners\, a silent auction and new this year\, a health fair sponsored by the resident doctors at Valley Consortium for Medical Education! Plus\, everyone who registers early gets a free T shirt. See you on race day!!\n\nEvent details and schedule\nCheck in will begin at 7:00 am race day.\n\n1 Mile race will begin at 8:30 am\n\n5K and 10K races will begin at 9:00 am.\nContact : 	\nPhone : 	209-576-3526\nEmail : 	\nWeb Site :
LOCATION:East La Loma Park 2001 Edgebrook Drive Modesto\, CA 95354
UID:e.2695.1632
SEQUENCE:3
DTSTAMP:20260419T152732Z
URL:https://business.modchamber.org/events/details/29th-annual-run-for-health-04-30-2016-1632
END:VEVENT

END:VCALENDAR
