BEGIN:VCALENDAR
VERSION:2.0
PRODID:-//ChamberMaster//Event Calendar 2.0//EN
METHOD:PUBLISH
X-PUBLISHED-TTL:P3D
REFRESH-INTERVAL:P3D
CALSCALE:GREGORIAN
BEGIN:VEVENT
DTSTART:20150904T010000Z
DTEND:20150904T040000Z
X-MICROSOFT-CDO-ALLDAYEVENT:FALSE
SUMMARY:29th Annual Edible Extravaganza
DESCRIPTION:This celebration of the Valley’s culinary offerings feature samples of some of the best food\, wine and beverages produced\, sold or available in the area. Representatives from over 60 of the Modesto area’s favorite vendors spend the evening handing out delectable\, amuse-bouche style samples to hungry event goers while wine makers plied attendees with generous pours of local\, or locally-produced beverages.\nContact :	Center for Human Resources\nPhone :	209.526.1476\nEmail :	\nWeb Site :	www.centerforhumanservices.org
X-ALT-DESC;FMTTYPE=text/html:This celebration of the Valley’s culinary offerings feature samples of some of the best food\, wine and beverages produced\, sold or available in the area. Representatives from over 60 of the Modesto area’s favorite vendors spend the evening handing out delectable\, amuse-bouche style samples to hungry event goers while wine makers plied attendees with generous pours of local\, or locally-produced beverages.\nContact :	Center for Human Resources\nPhone :	209.526.1476\nEmail :	\nWeb Site :	www.centerforhumanservices.org
LOCATION:Centre Plaza 1000 I St Modesto\, CA 95354
UID:e.2695.1063
SEQUENCE:3
DTSTAMP:20260419T230759Z
URL:https://business.modchamber.org/events/details/29th-annual-edible-extravaganza-09-03-2015-1063
END:VEVENT

END:VCALENDAR
