BEGIN:VCALENDAR
VERSION:2.0
PRODID:-//ChamberMaster//Event Calendar 2.0//EN
METHOD:PUBLISH
X-PUBLISHED-TTL:P3D
REFRESH-INTERVAL:P3D
CALSCALE:GREGORIAN
BEGIN:VEVENT
DTSTART:20160409T190000Z
DTEND:20160409T220000Z
X-MICROSOFT-CDO-ALLDAYEVENT:FALSE
SUMMARY:28th Annual Fundraiser “Lunch With Mary Poppins”-Soroptimist International of Modesto
DESCRIPTION:Luncheon • Silent Auction • Opportunity Drawings\nEntertainment by: The YES Company\nContest for most Original & Most Beautiful Hat\n(Prize to be awarded)\n\n\nBenefiting Soroptimist’s community Service Projects\n\nTickets - $40\n(Advance ticket sales only)\n\n\nFor more information or to purchase tickets contact:\nMarilyn Parman (209) 499-0260 or e-mail: parman2@aol.com\nContact : 	Marilyn Parman\nPhone : 	(209) 499-0260\nEmail : 	\nWeb Site :
X-ALT-DESC;FMTTYPE=text/html:	Luncheon • Silent Auction • Opportunity Drawings\nEntertainment by: The YES Company\nContest for most Original & Most Beautiful Hat\n(Prize to be awarded)\n\n\nBenefiting Soroptimist’s community Service Projects\n\nTickets - $40\n(Advance ticket sales only)\n\n\nFor more information or to purchase tickets contact:\nMarilyn Parman (209) 499-0260 or e-mail: parman2@aol.com\nContact : 	Marilyn Parman\nPhone : 	(209) 499-0260\nEmail : 	\nWeb Site :
LOCATION:Charity Ballroom 645 Charity Way Modesto\, CA 95355
UID:e.2695.1580
SEQUENCE:3
DTSTAMP:20260419T141527Z
URL:https://business.modchamber.org/events/details/28th-annual-fundraiser-lunch-with-mary-poppins-soroptimist-international-of-modesto-04-09-2016-1580
END:VEVENT

END:VCALENDAR
