BEGIN:VCALENDAR
VERSION:2.0
PRODID:-//ChamberMaster//Event Calendar 2.0//EN
METHOD:PUBLISH
X-PUBLISHED-TTL:P3D
REFRESH-INTERVAL:P3D
CALSCALE:GREGORIAN
BEGIN:VEVENT
DTSTART:20150418T190000Z
DTEND:20150418T220000Z
X-MICROSOFT-CDO-ALLDAYEVENT:FALSE
SUMMARY:27th Annual Fundraiser ''Welcome to Cafe De Paris''
DESCRIPTION:Tickets - $40.00 (Advance ticket sales only) Music & Entertainment   Opportunity Drawings Lunch   Silent Auction Plus have fun and join our Hat Contest (Prizes) Contact : Marilyn Parman Phone : (209) 499-0260 Email : parman2@aol.com
X-ALT-DESC;FMTTYPE=text/html:Tickets - $40.00 (Advance ticket sales only) Music &amp\; Entertainment &bull\; Opportunity Drawings Lunch &bull\; Silent Auction Plus have fun and join our Hat Contest (Prizes) Contact : Marilyn Parman Phone : (209) 499-0260 Email : parman2@aol.com
LOCATION:The Charity Ballroom 645 Charity Way Modesto\, CA 95355
UID:e.2695.879
SEQUENCE:3
DTSTAMP:20260420T074056Z
URL:https://business.modchamber.org/events/details/27th-annual-fundraiser-welcome-to-cafe-de-paris-04-18-2015-879
END:VEVENT

END:VCALENDAR
