BEGIN:VCALENDAR
VERSION:2.0
PRODID:-//ChamberMaster//Event Calendar 2.0//EN
METHOD:PUBLISH
X-PUBLISHED-TTL:P3D
REFRESH-INTERVAL:P3D
CALSCALE:GREGORIAN
BEGIN:VEVENT
DTSTART:20150418T170000Z
DTEND:20150418T230000Z
X-MICROSOFT-CDO-ALLDAYEVENT:FALSE
SUMMARY:26th Annual Earth Day in the Park
DESCRIPTION:This festival offers fun for the whole family with music\, special entertainment\, arts & crafts\, and great food\, not to mention lots of education on environmental issues. Graceada Park\, 401 Needham Ave\, Modesto\, 10:00am – 4:00pm.\nContact : 	Vicki Rice\nPhone : 	209-577-5495\nEmail : 	\nWeb Site : 	http://www.modestogov.com/prnd/recycling/earthday.asp
X-ALT-DESC;FMTTYPE=text/html:	This festival offers fun for the whole family with music\, special entertainment\, arts & crafts\, and great food\, not to mention lots of education on environmental issues. Graceada Park\, 401 Needham Ave\, Modesto\, 10:00am – 4:00pm.\nContact : 	Vicki Rice\nPhone : 	209-577-5495\nEmail : 	\nWeb Site : 	http://www.modestogov.com/prnd/recycling/earthday.asp
LOCATION:Graceada Park 401 Needham Ave Modesto\, CA 95350
UID:e.2695.874
SEQUENCE:3
DTSTAMP:20260420T074054Z
URL:https://business.modchamber.org/events/details/26th-annual-earth-day-in-the-park-04-18-2015-874
END:VEVENT

END:VCALENDAR
