BEGIN:VCALENDAR
VERSION:2.0
PRODID:-//ChamberMaster//Event Calendar 2.0//EN
METHOD:PUBLISH
X-PUBLISHED-TTL:P3D
REFRESH-INTERVAL:P3D
CALSCALE:GREGORIAN
BEGIN:VEVENT
DTSTART:20150719T150000Z
DTEND:20150719T070000Z
X-MICROSOFT-CDO-ALLDAYEVENT:FALSE
SUMMARY:25th Annual Summer Bash Car Show
DESCRIPTION:Poker Walk\, Coloring Contest\, Activities\, Vendors\, Food\, Poker Hand 1st 2nd & 3rd Prizes\, and DJ Gene Adams!\n\nFree to spectators.\n\nPre-registration $20.00 at the Door $25.00\n\nOpen to all Makes\, Models\, and years!\n\nProceeds to benefit Shriners\, Soroptomists & Community Hospice\nContact :	John Walsh\nPhone :	209-605-9157\nEmail :	\nWeb Site :
X-ALT-DESC;FMTTYPE=text/html:Poker Walk\, Coloring Contest\, Activities\, Vendors\, Food\, Poker Hand 1st 2nd & 3rd Prizes\, and DJ Gene Adams!\n\nFree to spectators.\n\nPre-registration $20.00 at the Door $25.00\n\nOpen to all Makes\, Models\, and years!\n\nProceeds to benefit Shriners\, Soroptomists & Community Hospice\nContact :	John Walsh\nPhone :	209-605-9157\nEmail :	\nWeb Site :	
LOCATION:The Fruit Yard 7948 Yosemite Blvd. Modesto\, CA 95357
UID:e.2695.1036
SEQUENCE:3
DTSTAMP:20260420T031849Z
URL:https://business.modchamber.org/events/details/25th-annual-summer-bash-car-show-07-19-2015-1036
END:VEVENT

END:VCALENDAR
