BEGIN:VCALENDAR
VERSION:2.0
PRODID:-//ChamberMaster//Event Calendar 2.0//EN
METHOD:PUBLISH
X-PUBLISHED-TTL:P3D
REFRESH-INTERVAL:P3D
CALSCALE:GREGORIAN
BEGIN:VEVENT
DTSTART:20150306T193000Z
DTEND:20150306T080000Z
X-MICROSOFT-CDO-ALLDAYEVENT:FALSE
SUMMARY:25th Annual Hearts and Flowers Luncheon
DESCRIPTION:Stanislaus Medical Society Alliance Charity Auction and Luncheon. All Proceeds Benefit several local charities\n\nTickets: $45\nContact :	Christine Ashrafzadch\nPhone :	(209) 380-8889
X-ALT-DESC;FMTTYPE=text/html:Stanislaus Medical Society Alliance Charity Auction and Luncheon. All Proceeds Benefit several local charities\n\nTickets: $45\nContact :	Christine Ashrafzadch\nPhone :	(209) 380-8889
LOCATION:Del Rio Country Club 801 Stewart Road Modesto\, CA 95355
UID:e.2695.723
SEQUENCE:3
DTSTAMP:20260420T074144Z
URL:https://business.modchamber.org/events/details/25th-annual-hearts-and-flowers-luncheon-03-06-2015-723
END:VEVENT

END:VCALENDAR
