BEGIN:VCALENDAR
VERSION:2.0
PRODID:-//ChamberMaster//Event Calendar 2.0//EN
METHOD:PUBLISH
X-PUBLISHED-TTL:P3D
REFRESH-INTERVAL:P3D
CALSCALE:GREGORIAN
BEGIN:VEVENT
DTSTART:20160307T000000Z
DTEND:20160306T080000Z
X-MICROSOFT-CDO-ALLDAYEVENT:FALSE
SUMMARY:24th Annual Ecumenical Choir Concert-to benefit Habitat for Humanity
DESCRIPTION:The concert is free to attend. A free-will offering will be taken during the concert with the entire collection to benefit Habitat for Humanity in Stanislaus County. This year’s concert conductor is Wendy Warner.\nContact :	Habitat for Humanity Stanislaus\nPhone :	(209) 575-4585\nEmail :	\nWeb Site :
X-ALT-DESC;FMTTYPE=text/html:The concert is free to attend. A free-will offering will be taken during the concert with the entire collection to benefit Habitat for Humanity in Stanislaus County. This year’s concert conductor is Wendy Warner.\nContact :	Habitat for Humanity Stanislaus\nPhone :	(209) 575-4585\nEmail :	\nWeb Site :	
LOCATION:First United Methodist Church 850 16th Street Modesto\, CA 95354
UID:e.2695.1543
SEQUENCE:3
DTSTAMP:20260419T154803Z
URL:https://business.modchamber.org/events/details/24th-annual-ecumenical-choir-concert-to-benefit-habitat-for-humanity-03-06-2016-1543
END:VEVENT

END:VCALENDAR
