BEGIN:VCALENDAR
VERSION:2.0
PRODID:-//ChamberMaster//Event Calendar 2.0//EN
METHOD:PUBLISH
X-PUBLISHED-TTL:P3D
REFRESH-INTERVAL:P3D
CALSCALE:GREGORIAN
BEGIN:VEVENT
DTSTART:20160320T000000Z
DTEND:20160319T070000Z
X-MICROSOFT-CDO-ALLDAYEVENT:FALSE
SUMMARY:23rd NRA Fundraising Dinner
DESCRIPTION:There is something for everyone at a Friends of NRA event. From the moment you walk in\, the atmosphere is brimming with excitement. Whether you’re keeping an eye on that unique item in the silent auction\, trying your luck at the game tables\, or just dining on some delicious food\, you’ll be sure to have a good time. It’s a family-friendly event chock-full of everything from exclusive\, limited edition merchandise\, firearms\, knives\, art\, jewelry\, and more. Not to mention all the great people you’ll meet in the process!\nContact :	\nPhone :	(209) 606-2430\nEmail :	\nWeb Site :
X-ALT-DESC;FMTTYPE=text/html:There is something for everyone at a Friends of NRA event. From the moment you walk in\, the atmosphere is brimming with excitement. Whether you’re keeping an eye on that unique item in the silent auction\, trying your luck at the game tables\, or just dining on some delicious food\, you’ll be sure to have a good time. It’s a family-friendly event chock-full of everything from exclusive\, limited edition merchandise\, firearms\, knives\, art\, jewelry\, and more. Not to mention all the great people you’ll meet in the process!\nContact :	\nPhone :	(209) 606-2430\nEmail :	\nWeb Site :	
LOCATION:Assyrian Social Hall 1457 Mabel Ave. Modesto\, CA 95355
UID:e.2695.1469
SEQUENCE:3
DTSTAMP:20260419T153602Z
URL:https://business.modchamber.org/events/details/23rd-nra-fundraising-dinner-03-19-2016-1469
END:VEVENT

END:VCALENDAR
