BEGIN:VCALENDAR
VERSION:2.0
PRODID:-//ChamberMaster//Event Calendar 2.0//EN
METHOD:PUBLISH
X-PUBLISHED-TTL:P3D
REFRESH-INTERVAL:P3D
CALSCALE:GREGORIAN
BEGIN:VEVENT
DTSTART:20150308T230000Z
DTEND:20150308T080000Z
X-MICROSOFT-CDO-ALLDAYEVENT:FALSE
SUMMARY:23rd Annual Ecumenical Choir Concert to benefit
DESCRIPTION:The concert is free to attend. A free-will offering will be taken during the concert with the entire collection to benefit Habitat for Humanity in Stanislaus County. This year’s concert conductor is Matt Cover.\nContact :	Habitat for Humanity Stanislaus\nPhone :	(209) 575-4585\nEmail :	\nWeb Site :
X-ALT-DESC;FMTTYPE=text/html:The concert is free to attend. A free-will offering will be taken during the concert with the entire collection to benefit Habitat for Humanity in Stanislaus County. This year’s concert conductor is Matt Cover.\nContact :	Habitat for Humanity Stanislaus\nPhone :	(209) 575-4585\nEmail :	\nWeb Site :	
LOCATION:First United Methodist Church 16th and I Streets Modesto\, CA 95354
UID:e.2695.787
SEQUENCE:3
DTSTAMP:20260420T074143Z
URL:https://business.modchamber.org/events/details/23rd-annual-ecumenical-choir-concert-to-benefit-03-08-2015-787
END:VEVENT

END:VCALENDAR
