BEGIN:VCALENDAR
VERSION:2.0
PRODID:-//ChamberMaster//Event Calendar 2.0//EN
METHOD:PUBLISH
X-PUBLISHED-TTL:P3D
REFRESH-INTERVAL:P3D
CALSCALE:GREGORIAN
BEGIN:VEVENT
DTSTART:20150322T000000Z
DTEND:20150321T070000Z
X-MICROSOFT-CDO-ALLDAYEVENT:FALSE
SUMMARY:22nd NRA Fundraising Dinner
DESCRIPTION:Fundraiser brought to you by the National Rifle Association. Tickets are $50.00 Evening includes Dinner\, Live Auctions\, raffles\, special drawings\, family fun\, games & fun! Tickets are not sold at the door. 5:00pm Assyrian Social Hall\, 1457 Mabel Ave. 606-2430\nContact :	Modesto Friends of NRA\nPhone :	209-606-2430\nEmail :	\nWeb Site :
X-ALT-DESC;FMTTYPE=text/html:	\n 		Fundraiser brought to you by the National Rifle Association. Tickets are $50.00 Evening includes Dinner\, Live Auctions\, raffles\, special drawings\, family fun\, games & fun! Tickets are not sold at the door. 5:00pm Assyrian Social Hall\, 1457 Mabel Ave. 606-2430\nContact :	Modesto Friends of NRA\nPhone :	209-606-2430\nEmail :	\nWeb Site :
LOCATION:Assyrian Social Hall 1457 Mabel Ave. Modesto\, CA 95355
UID:e.2695.813
SEQUENCE:3
DTSTAMP:20260420T073839Z
URL:https://business.modchamber.org/events/details/22nd-nra-fundraising-dinner-03-21-2015-813
END:VEVENT

END:VCALENDAR
