BEGIN:VCALENDAR
VERSION:2.0
PRODID:-//ChamberMaster//Event Calendar 2.0//EN
METHOD:PUBLISH
X-PUBLISHED-TTL:P3D
REFRESH-INTERVAL:P3D
CALSCALE:GREGORIAN
BEGIN:VEVENT
DTSTART:20160206T013000Z
DTEND:20160206T080000Z
X-MICROSOFT-CDO-ALLDAYEVENT:FALSE
SUMMARY:22nd Annual Crab Fest -Howard Training Center
DESCRIPTION:Doors open at 5:30pm Dinner at 7:00pm\nLive music performed by Livin' at 9:00pm\nLive Auction\, door & Raffle prizes\, not host bar\nTickets are $45.00\nContact :	Howard Training Center\nPhone :	209-593-5618\nEmail :	\nWeb Site :
X-ALT-DESC;FMTTYPE=text/html:Doors open at 5:30pm Dinner at 7:00pm\nLive music performed by Livin' at 9:00pm\nLive Auction\, door & Raffle prizes\, not host bar\nTickets are $45.00\nContact :	Howard Training Center\nPhone :	209-593-5618\nEmail :	\nWeb Site :	
LOCATION:Howard Training Center 1424 Stonum Road Modesto\, CA 95351
UID:e.2695.1356
SEQUENCE:3
DTSTAMP:20260419T164738Z
URL:https://business.modchamber.org/events/details/22nd-annual-crab-fest-howard-training-center-02-05-2016-1356
END:VEVENT

END:VCALENDAR
