BEGIN:VCALENDAR
VERSION:2.0
PRODID:-//ChamberMaster//Event Calendar 2.0//EN
METHOD:PUBLISH
X-PUBLISHED-TTL:P3D
REFRESH-INTERVAL:P3D
CALSCALE:GREGORIAN
BEGIN:VEVENT
DTSTART:20150620T160000Z
DTEND:20150620T070000Z
X-MICROSOFT-CDO-ALLDAYEVENT:FALSE
SUMMARY:22nd Annual Back to Graffiti at the Fruit Yard
DESCRIPTION:22nd Annual Back to Graffiti at the Fruit Yard Join us for the longest running classic car show in Modesto commemorating George Lucas’ American Graffiti Movie. The 22nd Annual Back to Graffiti Classic Car Show featuring raffle prizes\, music\, vendors and more!\nLive music from The Sensations 1pm – 4pm and Elvis impersonator will be in The Fruit Yard Lounge starting at 4pm for your entertainment and Mesquite BBQ will be available throughout the day. Car Show & Entertainment is free to the public. For more information call The Fruit Yard 7948 Yosemite Blvd.\, Modesto\, CA at 209-577-3093.\nContact :	The Fruit Yard\nPhone :	209-577-3093\nEmail :	\nWeb Site :
X-ALT-DESC;FMTTYPE=text/html:22nd Annual Back to Graffiti at the Fruit Yard Join us for the longest running classic car show in Modesto commemorating George Lucas’ American Graffiti Movie. The 22nd Annual Back to Graffiti Classic Car Show featuring raffle prizes\, music\, vendors and more!\nLive music from The Sensations 1pm – 4pm and Elvis impersonator will be in The Fruit Yard Lounge starting at 4pm for your entertainment and Mesquite BBQ will be available throughout the day. Car Show & Entertainment is free to the public. For more information call The Fruit Yard 7948 Yosemite Blvd.\, Modesto\, CA at 209-577-3093.\nContact :	The Fruit Yard\nPhone :	209-577-3093\nEmail :	\nWeb Site :	
LOCATION:The Fruit Yard 7948 Yosemite Boulevard Modesto\, CA 95355
UID:e.2695.1007
SEQUENCE:3
DTSTAMP:20260420T033610Z
URL:https://business.modchamber.org/events/details/22nd-annual-back-to-graffiti-at-the-fruit-yard-06-20-2015-1007
END:VEVENT

END:VCALENDAR
