BEGIN:VCALENDAR
VERSION:2.0
PRODID:-//ChamberMaster//Event Calendar 2.0//EN
METHOD:PUBLISH
X-PUBLISHED-TTL:P3D
REFRESH-INTERVAL:P3D
CALSCALE:GREGORIAN
BEGIN:VEVENT
DTSTART:20151022T030000Z
DTEND:20151021T070000Z
X-MICROSOFT-CDO-ALLDAYEVENT:FALSE
SUMMARY:20th Annual Fall Workshop & Expo
DESCRIPTION:Event topics:\nSick Leave\, Affordable Care Act\, Attracting the RIGHT talent & Strategic HR\n\nExecutive Panel:\nDavid White\, CEO\, Stan Buisness Alliance\nDr. Mike Santo\, President\, RembrandtAdvantage\nChris Dyer\, CEO\, PeopleG2\n...with more to come!\n\nContact :	Central Valley HR Management Assoc.\nPhone :	209-480-0572\nEmail :	president.cvhrma@gmail.com\nWeb Site :	www.cvhrma.shrm.org
X-ALT-DESC;FMTTYPE=text/html:Event topics:\nSick Leave\, Affordable Care Act\, Attracting the RIGHT talent & Strategic HR\n\nExecutive Panel:\nDavid White\, CEO\, Stan Buisness Alliance\nDr. Mike Santo\, President\, RembrandtAdvantage\nChris Dyer\, CEO\, PeopleG2\n...with more to come!\n\nContact :	Central Valley HR Management Assoc.\nPhone :	209-480-0572\nEmail :	president.cvhrma@gmail.com\nWeb Site :	www.cvhrma.shrm.org
LOCATION:Doubletree Hotel 1150 9Th St Modesto\, CA 95354
UID:e.2695.1240
SEQUENCE:3
DTSTAMP:20260419T214351Z
URL:https://business.modchamber.org/events/details/20th-annual-fall-workshop-expo-10-21-2015-1240
END:VEVENT

END:VCALENDAR
